BEGIN:VCALENDAR
VERSION:2.0
PRODID:icalendar-ruby
CALSCALE:GREGORIAN
METHOD:PUBLISH
BEGIN:VEVENT
DTSTAMP:20260422T045858Z
UID:7-1624729@southpymatuningchurch.com
DTSTART:20261007T223000Z
DTEND:20261007T233000Z
CLASS:PUBLIC
CREATED:20260421T200353
DESCRIPTION:Bible Study
LAST-MODIFIED:20260421T200353
LOCATION:
SUMMARY:Bible Study
URL;VALUE=URI:https://southpymatuning.church/events/bible-study/2026-10-07
END:VEVENT
END:VCALENDAR
